BEGIN:VCALENDAR
VERSION:2.0
PRODID:-//Dennis Swanberg - ECPv6.15.20//NONSGML v1.0//EN
CALSCALE:GREGORIAN
METHOD:PUBLISH
X-WR-CALNAME:Dennis Swanberg
X-ORIGINAL-URL:https://dennisswanberg.com
X-WR-CALDESC:Events for Dennis Swanberg
REFRESH-INTERVAL;VALUE=DURATION:PT1H
X-Robots-Tag:noindex
X-PUBLISHED-TTL:PT1H
BEGIN:VTIMEZONE
TZID:America/Chicago
BEGIN:DAYLIGHT
TZOFFSETFROM:-0600
TZOFFSETTO:-0500
TZNAME:CDT
DTSTART:20250309T080000
END:DAYLIGHT
BEGIN:STANDARD
TZOFFSETFROM:-0500
TZOFFSETTO:-0600
TZNAME:CST
DTSTART:20251102T070000
END:STANDARD
BEGIN:DAYLIGHT
TZOFFSETFROM:-0600
TZOFFSETTO:-0500
TZNAME:CDT
DTSTART:20260308T080000
END:DAYLIGHT
BEGIN:STANDARD
TZOFFSETFROM:-0500
TZOFFSETTO:-0600
TZNAME:CST
DTSTART:20261101T070000
END:STANDARD
BEGIN:DAYLIGHT
TZOFFSETFROM:-0600
TZOFFSETTO:-0500
TZNAME:CDT
DTSTART:20270314T080000
END:DAYLIGHT
BEGIN:STANDARD
TZOFFSETFROM:-0500
TZOFFSETTO:-0600
TZNAME:CST
DTSTART:20271107T070000
END:STANDARD
END:VTIMEZONE
BEGIN:VEVENT
DTSTART;TZID=America/Chicago:20260216T180000
DTEND;TZID=America/Chicago:20260216T180000
DTSTAMP:20260422T161228
CREATED:20250825T210309Z
LAST-MODIFIED:20250826T151030Z
UID:101769-1771264800-1771264800@dennisswanberg.com
SUMMARY:633 Recovery - Poteau\, Oklahoma
DESCRIPTION:An Evening Of Humor & Encouragement\nMonday\, February 16th\, 2026 (6PM)\nHeld At: Poteau Reynolds Center\n105 Reynolds Avenue\nPoteau\, OK 74953\n633 Recovery\nPO Box 272\nPoteau\, OK 74953\n918.658.2033\nwww.633Recovery.com
URL:https://dennisswanberg.com/event/633-recovery-poteau-oklahoma/
LOCATION:Donald W. Reynolds Community Center\, 105 Reynolds Avenue\, Poteau\, OK\, 74953\, United States
ATTACH;FMTTYPE=image/png:https://dennisswanberg.com/wp-content/uploads/2025/08/26.02.16-The-Community-State-Bank-Poteau-OK-2-1.png
END:VEVENT
END:VCALENDAR